BEGIN:VCALENDAR
VERSION:2.0
PRODID:-//Les Talentueuses - ECPv6.15.20//NONSGML v1.0//EN
CALSCALE:GREGORIAN
METHOD:PUBLISH
X-ORIGINAL-URL:https://lestalentueuses74.fr
X-WR-CALDESC:Évènements pour Les Talentueuses
REFRESH-INTERVAL;VALUE=DURATION:PT1H
X-Robots-Tag:noindex
X-PUBLISHED-TTL:PT1H
BEGIN:VTIMEZONE
TZID:Europe/Paris
BEGIN:DAYLIGHT
TZOFFSETFROM:+0100
TZOFFSETTO:+0200
TZNAME:CEST
DTSTART:20250330T010000
END:DAYLIGHT
BEGIN:STANDARD
TZOFFSETFROM:+0200
TZOFFSETTO:+0100
TZNAME:CET
DTSTART:20251026T010000
END:STANDARD
BEGIN:DAYLIGHT
TZOFFSETFROM:+0100
TZOFFSETTO:+0200
TZNAME:CEST
DTSTART:20260329T010000
END:DAYLIGHT
BEGIN:STANDARD
TZOFFSETFROM:+0200
TZOFFSETTO:+0100
TZNAME:CET
DTSTART:20261025T010000
END:STANDARD
BEGIN:DAYLIGHT
TZOFFSETFROM:+0100
TZOFFSETTO:+0200
TZNAME:CEST
DTSTART:20270328T010000
END:DAYLIGHT
BEGIN:STANDARD
TZOFFSETFROM:+0200
TZOFFSETTO:+0100
TZNAME:CET
DTSTART:20271031T010000
END:STANDARD
END:VTIMEZONE
BEGIN:VEVENT
DTSTART;TZID=Europe/Paris:20260303T190000
DTEND;TZID=Europe/Paris:20260303T210000
DTSTAMP:20260420T161129
CREATED:20260223T154145Z
LAST-MODIFIED:20260223T154238Z
UID:3898-1772564400-1772571600@lestalentueuses74.fr
SUMMARY:L’After-work de l’entrepreneuriat local – 2 Mars 2026 – Asso Les Talentueuses
DESCRIPTION: Save the date ! Lundi 2 Mars de 19h à 21h ! Au bar à vin « La Roche D’y Vins »\, La Roche sur Foron \nTu es artisan\, créateur\, tu es dans le service ou tu portes un projet local qui te fait vibrer ? Alors ce RDV est pour toi ! \nViens Réseauter autour d’1 verre\, Echanger avec d’autres entrepreneurs passionnés\, Gagner en visibilité\, Promouvoir ton savoir-faire et Booster ton activité dans une ambiance conviviale et 100% locale. \n Inscris-toi vite\, les places sont limitées ! \n Ce lundi\, Juliette\, Graphiste Illustratrice Indépendante\, @lightmyfire.studio\, interviendra pour nous partager les clés d’une identité visuelle claire et impactante. \n  \nLes Talentueuses\, c’est quoi ? \nC’est une association\, un collectif engagé au service de l’entrepreneuriat local en Haute-Savoie\, et plus particulièrement dans la Vallée de l’Arve. \nNée il y a 4 ans de l’initiative de quatre femmes entrepreneures\, l’association LES TALENTUEUSES s’est construite autour d’une conviction forte : à plusieurs\, on va toujours plus loin que seul. \nSi son ADN est profondément ancré dans la valorisation de l’entrepreneuriat féminin\, Les Talentueuses évoluent aujourd’hui comme un réseau ouvert à tous les entrepreneurs et porteurs de projets qui partagent les mêmes valeurs : entraide\, synergie\, engagement local et authenticité. \nSon ambition ? Soutenir\, valoriser et promouvoir les initiatives entrepreneuriales du territoire\, en créant un réseau dynamique\, bienveillant et inspirant. \nÀ travers des afterworks\, beforeworks et événements dédiés à la visibilité locale\, l’association favorise les rencontres\, les échanges d’expérience\, les recommandations et le soutien entre entrepreneurs confrontés aux réalités du terrain. \nLes Talentueuses\, c’est un espace de partage sincère\, un accélérateur de synergies\, un réseau de recommandations locales\, un lieu où l’on peut poser ses problématiques sans filtre\, et un tremplin pour celles et ceux qui entreprennent ou souhaitent se lancer. \nRejoindre Les Talentueuses\, c’est faire le choix de l’action locale\, du collectif plutôt que de l’isolement\, du soutien mutuel plutôt que de la compétition. \n  \nNotre volonté : organiser un After-work ou Before-work chaque mois pour développer le réseau Les Talentueuses\, et donc le tien aussi ! \nProchaine date : Lundi 2 Mars\, en mode After-work\, de 19h00 à 21h ! \nL’objectif : créer un temps et un lieu de partage pour les entrepreneurs du pays Rochois\, de la vallée de l’Arve\, et des environs — quel que soit leur corps de métier. \nDonc que tu sois indépendant\, artisan\, dans les services\, en phase de démarrage\, en difficulté\, en quête de visibilité ou en pleine réflexion sur un nouveau projet\, tu es le/la bienvenu.e ! Chacun.e aura la possibilité de se présenter pendant 2 minutes (activité/projet). \n  \nLieu : le Bar à vin « La Roche D’y Vins »\, 5 place de l’hôpital 74800 La Roche sur Foron. \nUn espace chaleureux\, pensé par et pour les adeptes du Local ! \nHoraires : de 19h00 à 21h00 (parce que le lendemain\, faut retourner au boulot  😉\nInscription : 10 € incluant une conso + des gourmandises locales à grignoter. \nPossibilité de manger en plus sur place : Frank\, le Propriétaire\, propose de supers produits locaux (planches de fromages\, charcuterie\, truite\, etc. ) \nDes questions ? Ecris-nous à lestalentueuses74@gmail.com
URL:https://lestalentueuses74.fr/evenement/lafter-work-de-lentrepreneuriat-local-2-mars-2026-asso-les-talentueuses/
LOCATION:La Roche d’y Vins\, 5 place de l'hopital\, La Roche sur Foron\, 74800\, France
ATTACH;FMTTYPE=image/png:https://lestalentueuses74.fr/wp-content/uploads/2026/02/AFTERWORK-site-web-A5-02.03.26-scaled.png
ORGANIZER;CN="Les Talentueuses":MAILTO:lestalentueuses74@gmail.com
END:VEVENT
END:VCALENDAR