BEGIN:VCALENDAR
VERSION:2.0
PRODID:-//Les Talentueuses - ECPv6.15.20//NONSGML v1.0//EN
CALSCALE:GREGORIAN
METHOD:PUBLISH
X-ORIGINAL-URL:https://lestalentueuses74.fr
X-WR-CALDESC:Évènements pour Les Talentueuses
REFRESH-INTERVAL;VALUE=DURATION:PT1H
X-Robots-Tag:noindex
X-PUBLISHED-TTL:PT1H
BEGIN:VTIMEZONE
TZID:Europe/Paris
BEGIN:DAYLIGHT
TZOFFSETFROM:+0100
TZOFFSETTO:+0200
TZNAME:CEST
DTSTART:20240331T010000
END:DAYLIGHT
BEGIN:STANDARD
TZOFFSETFROM:+0200
TZOFFSETTO:+0100
TZNAME:CET
DTSTART:20241027T010000
END:STANDARD
BEGIN:DAYLIGHT
TZOFFSETFROM:+0100
TZOFFSETTO:+0200
TZNAME:CEST
DTSTART:20250330T010000
END:DAYLIGHT
BEGIN:STANDARD
TZOFFSETFROM:+0200
TZOFFSETTO:+0100
TZNAME:CET
DTSTART:20251026T010000
END:STANDARD
BEGIN:DAYLIGHT
TZOFFSETFROM:+0100
TZOFFSETTO:+0200
TZNAME:CEST
DTSTART:20260329T010000
END:DAYLIGHT
BEGIN:STANDARD
TZOFFSETFROM:+0200
TZOFFSETTO:+0100
TZNAME:CET
DTSTART:20261025T010000
END:STANDARD
END:VTIMEZONE
BEGIN:VEVENT
DTSTART;TZID=Europe/Paris:20251206T100000
DTEND;TZID=Europe/Paris:20251207T170000
DTSTAMP:20260422T120935
CREATED:20251130T223608Z
LAST-MODIFIED:20251203T135225Z
UID:3843-1765015200-1765126800@lestalentueuses74.fr
SUMMARY:Marché de Noël
DESCRIPTION:Marché de Noël \nSAMEDI 6 ET DIMANCHE 7 DÉCEMBRE \n \nSAMEDI 6 DÉCEMBRE\nSous la Grenette\n\nPatinoire : 10h > 20h\n\nPlace Clavel\n\nLecture de contes : 11h – 12h – 15h – 16h – 17h (L’âme En Doline)\n\nSous le Chapiteau\n\nMaquillage artistique\, paillettes et tatouages éphémères (Pour les enfants avec Roxana) : 10h > 17h\nMountainBrass : 11h (La Fanfare de rue des jeunes du Pays Rochois)\nLa Disco de Olaf : 15h (DJ Manu aka Mr Funk – viens danser en famille !)\nGroupe Lemonade : 18h (Reprises de hits intemporels de la soul/funk\, reggae\, …)\n\nDans le Hall de la Mairie\n\nAtelier scrapbooking : 13h > 17h30\nPortraits minute à l’aquarelle : 13h > 17h30 (par Léa)\nDépart du jeu de piste avec Adèle : 13h > 17h30 (Jeu pour enfants de 4 à 10 ans)\nEscape game insolite avec Cyrielle : 13h > 17h30 (30 minutes pour résoudre un mystère dans le salon des Cérémonies)\n\nPrès de la Fontaine\n\nShooting photo avec Olaf & Annabelle : 10h > 18h (Inscription au chalet d’accueil)\n\n\nDIMANCHE 7 DÉCEMBRE\nSous la Grenette\n\nPatinoire : 10h > 19h\n\nPlace Clavel\n\nLecture de contes : 11h – 12h – 15h – 16h – 17h (L’âme En Doline)\n\nSous le Chapiteau\n\nAtelier yoga du rire avec Laurence – GRATUIT : 10h30 (Inscription ici).\n« Le Yoga du rire est une pratique simple et accessible à toutes et tous qui combine le rire avec la respiration yogique (pranayama) et la stimulation des points d’acupuncture.  \nMatériel à prévoir: \n\nUne bouteille d’eau\nUn tapis de yoga et une petite couverture pour la relaxation finale\nUne tenue souple dans laquelle vous vous sentez à l’aise\n\n\n\n \n\nMaquillage artistique\, paillettes et tatouages éphémères : 10h > 17h (Pour les enfants avec Roxana)\nLa Disco de Olaf : 12h (DJ Manu aka Mr Funk – viens danser en famille !)\nElijah Lo : 14h (Reprises de Noël et mélodies intemporelles pop\, soul et jazz)\nHarmonie Gospel : 16h (Chorale rochoise)\n\nDans le Hall de la Mairie\n\nAtelier scrapbooking : 10h30 > 16h (Créez de jolies cartes et décorations personnalisées avec Émeline\nPortraits minute à l’aquarelle : 10h30 > 16h (par Léa)\nDépart du jeu de piste avec Adèle : 10h > 16h (Un mystère plane sur le vieux La Roche\, jeu pour enfants de 4 à 10 ans – 1h de jeu)\nEscape game insolite avec Cyrielle : 10h > 16h (30 minutes pour résoudre un mystère dans le salon des Cérémonies)\n\nEt pour se régaler retrouver les FOODTRUCK et stands de nourriture suivants : \n\nMy Eco House : Traiteur Vietnamien (https://my-ecohouse.fr). Hai Anh vous fera voyager avec ses délicieux nems et banh bao (brioche vietnamienne).  \nKeo Cuisine : traiteur Thaï/Laossien. La cheffe\, Mamy Kéo vous servira différentes soupe de nouilles réconfortants aux saveurs d’ailleurs. Voyage gustatif garanti !\nLe wagon cuisine : https://www.instagram.com/le_wagon_cuisine?igsh=MXU1enhwYjhsMjl4NQ==\nUrban Smoker : https://www.instagram.com/urban_smoker_?igsh=MTE0b2k4MGdnYjJ3cg==\nBollystreet : https://www.instagram.com/bollystreet_foodtruck?igsh=MWx5cm13ZWNkbDVsbw==
URL:https://lestalentueuses74.fr/evenement/marche-de-noel-2/
LOCATION:La Roche sur Foron\, La Roche sur Foron\, 74800\, France
ATTACH;FMTTYPE=image/jpeg:https://lestalentueuses74.fr/wp-content/uploads/2025/11/OTLRSF_RL2025_AFFICHE_320X480MM_5-7-12-scaled.jpg
END:VEVENT
END:VCALENDAR