BEGIN:VCALENDAR
VERSION:2.0
PRODID:-//Les Talentueuses - ECPv6.15.20//NONSGML v1.0//EN
CALSCALE:GREGORIAN
METHOD:PUBLISH
X-WR-CALNAME:Les Talentueuses
X-ORIGINAL-URL:https://lestalentueuses74.fr
X-WR-CALDESC:Évènements pour Les Talentueuses
REFRESH-INTERVAL;VALUE=DURATION:PT1H
X-Robots-Tag:noindex
X-PUBLISHED-TTL:PT1H
BEGIN:VTIMEZONE
TZID:Europe/Paris
BEGIN:DAYLIGHT
TZOFFSETFROM:+0100
TZOFFSETTO:+0200
TZNAME:CEST
DTSTART:20240331T010000
END:DAYLIGHT
BEGIN:STANDARD
TZOFFSETFROM:+0200
TZOFFSETTO:+0100
TZNAME:CET
DTSTART:20241027T010000
END:STANDARD
BEGIN:DAYLIGHT
TZOFFSETFROM:+0100
TZOFFSETTO:+0200
TZNAME:CEST
DTSTART:20250330T010000
END:DAYLIGHT
BEGIN:STANDARD
TZOFFSETFROM:+0200
TZOFFSETTO:+0100
TZNAME:CET
DTSTART:20251026T010000
END:STANDARD
BEGIN:DAYLIGHT
TZOFFSETFROM:+0100
TZOFFSETTO:+0200
TZNAME:CEST
DTSTART:20260329T010000
END:DAYLIGHT
BEGIN:STANDARD
TZOFFSETFROM:+0200
TZOFFSETTO:+0100
TZNAME:CET
DTSTART:20261025T010000
END:STANDARD
END:VTIMEZONE
BEGIN:VEVENT
DTSTART;VALUE=DATE:20250628
DTEND;VALUE=DATE:20250701
DTSTAMP:20260421T083634
CREATED:20250517T110355Z
LAST-MODIFIED:20250624T231743Z
UID:3778-1751072400-1751245199@lestalentueuses74.fr
SUMMARY:Les festi'talentueuses
DESCRIPTION:Les Festi’Talentueuses 28-29 juin 2025 \nUn aperçu du programme de votre weekend festif les 28-29 juin\, aux Festi´Talentueuses\, au Château de l’Echelle à La Roche sur Foron !!☀️😎🍹🎶🍔🍦 \nTout le weekend\, rien que pour Vous\, les Talents 100% locaux se rassemblent ! Artistes\, Créateurs\, Artisans\, Food trucks\, Concerts live…\nSans oublier les activités\, animations pour petits et grands ! Toboggan gonflable\, ateliers créatifs\, jeux de pistes\, escape games insolites\, maquillage\, tatouage au henné\, bulle bien-être EMOI*… \nEntrée libre et gratuite samedi de 10h à 22h et dimanche de 10h à 18h. \n*Découvertes et expérimentations : massages\, soins énergétiques\, guidances…\nAteliers – Conférences des membres du Réseau EMOI (tout public – env 20-30 min)\nPlus d’infos sur www.reseau-emoi.fr \nSamedi 28/06/2025\n\n\n\n\n\n\n10h-20h30 : ESCAPE COFFRE (Egypte antique) – Le mystère d’Alicia\, en extérieur\, par Sauterelle.Jeux. Idéal 12 ans et +. Sessions d’1h. Inscription sur : https://linktr.ee/sauterelle.jeux\n10h-12h\, 15h30-17h30 : MAQUILLAGE ENFANT par Roxanna. Prévoir 10 min par enfant. Des coloriages seront à disposition pour patienter en s’amusant. Inscription sur : https://www.helloasso.com/associations/les-talentueuses-74/evenements/les-festitalentueuses-28-29-juin-2025\n10h-12h\, 14h-18h : « CRÉE TON TABLEAU VÉGÉTAL »\, Atelier par Vert Passion. 8 personnes max en même temps. Prévoir 30/45 min. Inscription sur : https://www.helloasso.com/associations/les-talentueuses-74/evenements/les-festitalentueuses-28-29-juin-2025\n10h30: SPECTACLE ENFANT « Les p’tites histoires de la Nature » par L’Ame En Doline (à partir de 3 ans\, env 20-30 min). Gratuit\n10h30\, 15h : ATELIER EMOI « Où en suis-je sur mon chemin ? » par Vanessa Riera\, Praticienne Gestalt Thérapie et Hypnose. Gratuit\n11h\, 14h30\, 16h30 : Atelier « CRÉE TON TAMPON ENCREUR »\, par Audrey. Tous âges. Prévoir 30 min. Inscription sur : https://www.helloasso.com/associations/les-talentueuses-74/evenements/les-festitalentueuses-28-29-juin-2025\n11h\, 13h\, 15h\, 17h : ESCAPE FAMILLE dans le château\, par En Scènes Acting – Conte à énigmes 6 à 11 ans. 4 sessions d’1h. Inscription sur : https://linktr.ee/Enscenesacting\n11h30-13h : CONCERT Mountain Brass. Groupe de La Roche sur Foron\n11h30\, 15h\, 17h : DÉMONSTRATION de techniques de recyclage du papier\, par Audrey. Tous âges. Prévoir 30 min.\n11h30 : ATELIER EMOI « Comprendre et réguler ses émotions par les mots et le corps »\, par Virginie Saddier\, Accompagnement Corps & Esprit. Gratuit\n14h\, 15h : SPECTACLE ENFANT « Les p’tites histoires de la Nature » par L’Ame En Doline (à partir de 3 ans). 2 sessions de 20-30 min. Gratuit\n14h : ATELIER EMOI « Ma guidance au quotidien »\, par Fabien Duflot\, Orkian Energie\, Accompagnant Mieux-être. Gratuit\n16h : CONCERT solo Elijah Lo. Pop\, Soul & Jazz\n19h : CONCERT Lemanode Band. Groupe local Soul\, Funk & Disco.\n21h30 : SET solo Stu̲nt. Rap urbain\n\n\n\nDimanche 29/06/25\n\n\n\n\n\n\n10h-12h\, 14h-17h : JEU DE PISTE\, par Sauterelle.Jeux\, Idéal 4-8 ans avec 1 adulte. Dernier départ à 12h et 17h. Sessions libres d’1h. Inscription sur : https://linktr.ee/sauterelle.jeux\n10h-12h\, 14h-16h : MAQUILLAGE ENFANT par Roxanna. Prévoir 10 min par enfant. Des coloriages seront à disposition pour patienter en s’amusant. Inscription sur : https://www.helloasso.com/associations/les-talentueuses-74/evenements/les-festitalentueuses-28-29-juin-2025\n10h-12h\, 14h-18h : Atelier « CRÉE TON TABLEAU VÉGÉTAL »\, par Vert Passion. 8 personnes max en même temps. Prévoir 30/45 min. Inscription sur : https://www.helloasso.com/associations/les-talentueuses-74/evenements/les-festitalentueuses-28-29-juin-2025\n10h30 et 15h : ATELIER EMOI « La pause Relax Sophro »\, par Amélie Sophrologie\, Coaching\, soins énergétiques et Sophrologie. Gratuit\n11h : CONCERT solo Emma au piano\n11h\, 13h\, 14h30\, 16h : ESCAPE CHRONO par En Scènes Acting – Ados/adultes dès 12 ans. 4 sessions de 45 min. Inscription sur : https://linktr.ee/Enscenesacting\n11h\, 14h30\, 16h30 : Atelier « CRÉE TON TAMPON ENCREUR »\, par Audrey. Tous âges. Les plus jeunes doivent être accompagnés. Prévoir 30 min. Inscription sur : https://www.helloasso.com/associations/les-talentueuses-74/evenements/les-festitalentueuses-28-29-juin-2025\n11h30 : ATELIER EMOI « Ma guidance au quotidien »\, par Fabien Duflot\, Orkian Energie\, Accompagnant Mieux-être. Gratuit\n11h30\, 15h\, 17h : DÉMONSTRATION de techniques de recyclage du papier\, par Audrey. Tous âges. Prévoir 30 min. (Gratuit)\n12h : DÉMONSTRATION de danse laotienne\n12h30-16h00 : SHOWCASE MUSICAL de l’école Parenthèse (gratuit)\n\nchorale\nclaire Lavy (compo)\natelier 7occlock à 5 chanteuses\nCoxa (compo Steph et Stella)\n⁠François Bailly (compo)\n⁠cloud nine (groupe vocal)\n\n\n13h-18h : Atelier « LIBÈRE TA CRÉATIVITÉ STREET ART/ GRAFFITI »\, par Nicolas Maurel. À partir de 9-10 ans\, 8 personnes max en même temps\, prévoir 1h30. Inscription sur : https://www.helloasso.com/associations/les-talentueuses-74/evenements/les-festitalentueuses-28-29-juin-2025\n14h : ATELIER EMOI « La naturopathie\, votre alliée pour une digestion légère et un esprit tranquille »\, par Delphine Gonnet\, Naturopathe. Gratuit\n16h : ATELIER EMOI « Comment fonctionne l’hypnose ? »\, par Virginie Saddier\, Accompagnement Corps & Esprit. Gratuit\n16h15 : DÉMONSTRATION de capoeira\n17h : SET de Charles Felixx DJ. Electro house\n18h : Toutes les bonnes choses ont une fin 🤗 On espère sincèrement que ça vous aura plu ! Boissons 🍻 offertes pour les adultes qui resteront nous aider à remballer de 18h à 20h ! 😘🙏
URL:https://lestalentueuses74.fr/evenement/les-festitalentueuses/
LOCATION:Château de l’échelle\, 100 rue du Collège\, La Roche sur Foron\, 74800\, France
ATTACH;FMTTYPE=image/jpeg:https://lestalentueuses74.fr/wp-content/uploads/2025/05/WhatsApp-Image-2025-05-13-at-21.39.09.jpeg
ORGANIZER;CN="Les Talentueuses":MAILTO:lestalentueuses74@gmail.com
END:VEVENT
END:VCALENDAR