BEGIN:VCALENDAR
VERSION:2.0
PRODID:-//Les Talentueuses - ECPv6.15.20//NONSGML v1.0//EN
CALSCALE:GREGORIAN
METHOD:PUBLISH
X-WR-CALNAME:Les Talentueuses
X-ORIGINAL-URL:https://lestalentueuses74.fr
X-WR-CALDESC:Évènements pour Les Talentueuses
REFRESH-INTERVAL;VALUE=DURATION:PT1H
X-Robots-Tag:noindex
X-PUBLISHED-TTL:PT1H
BEGIN:VTIMEZONE
TZID:Europe/Paris
BEGIN:DAYLIGHT
TZOFFSETFROM:+0100
TZOFFSETTO:+0200
TZNAME:CEST
DTSTART:20230326T010000
END:DAYLIGHT
BEGIN:STANDARD
TZOFFSETFROM:+0200
TZOFFSETTO:+0100
TZNAME:CET
DTSTART:20231029T010000
END:STANDARD
BEGIN:DAYLIGHT
TZOFFSETFROM:+0100
TZOFFSETTO:+0200
TZNAME:CEST
DTSTART:20240331T010000
END:DAYLIGHT
BEGIN:STANDARD
TZOFFSETFROM:+0200
TZOFFSETTO:+0100
TZNAME:CET
DTSTART:20241027T010000
END:STANDARD
BEGIN:DAYLIGHT
TZOFFSETFROM:+0100
TZOFFSETTO:+0200
TZNAME:CEST
DTSTART:20250330T010000
END:DAYLIGHT
BEGIN:STANDARD
TZOFFSETFROM:+0200
TZOFFSETTO:+0100
TZNAME:CET
DTSTART:20251026T010000
END:STANDARD
END:VTIMEZONE
BEGIN:VEVENT
DTSTART;TZID=Europe/Paris:20241129T160000
DTEND;TZID=Europe/Paris:20241201T180000
DTSTAMP:20260425T143608
CREATED:20250217T104928Z
LAST-MODIFIED:20250217T105635Z
UID:3491-1732896000-1733076000@lestalentueuses74.fr
SUMMARY:Marché de Noël
DESCRIPTION:Programme du Marché de Noël \n\n\n\n\n\n\n\n\nPlace de la Mairie à La Roche sur Foron\n\n\n\n\nVendredi 29 novembre \n16h30-18h30 Happy Hour de la Mairie avec chocolat et vin chaud offert* \n17h00 déambulation lumineuse Magic Flow \n18h30 lancement des illuminations + discours du Maire \n19h00 Chorale Arpège \n20h00 Spectacle Magic Flow \n21h00 Chants ORJ jeunes \nSamedi 30 novembre \n11h00 Chorale des Collèges La Roche sur Foron et Bonneville (1/2h) \n14h30 Démonstration de Abada Capoeira\, St Pierre en Faucigny (1/2h) \n16h00 Show de breakdance de la Hors Norme School\, Bonneville (3/4h) \n19h00 Harmonie Gospel (1h15) \n21h00 Concert Christmas Pop\, Annabelle et Aurélien (1h30) \nDimanche 1er décembre \n14h00 Chansons du monde avec Marina Iozano (2h) \nAnimations \nInscrivez-vous ! \n  \n– Lecture de Contes par L’âme En Doline : 10h\, 11h\, 14h\, 15h\, 16\, 17h (rémunération de l’artiste au chapeau) \n– Atelier Graffiti/ StreetArt (payant) : 10h\, 14h\, 16h30 (samedi uniquement\, durée 2h\, ados\, réalisation d’un poster (30€)\, groupes de 6 max \n– Escape game insolite au Château avec En Scènes Acting. \nSamedi : séance à 11h/13h30/15h30/17h30 \nDimanche : séance à 11h/13h30/15h30. Détails des formules\, tarifs et billetterie en ligne sur : https://linktr.ee/Enscenesacting \n> Rdv dans le Château de L’Echelle\, en haut du vieux La Roche. \nTout le week-end  \nUn cadeau 🎁 vous attendra au Château !\nLes Talentueuses et Jessica vous offriront un shooting photo 📷 Noël en famille\, idéal pour vos vœux 2025 ! 💝 \n& \nUne tombola 100% gagnante vous sera proposée sur la place de la mairie !\nBénéfices reversés à l’association\n \n\n\n\n\n\n\n\n\n*Chocolat et vin chaud offert par la municipalité vendredi 29 novembre 2024\, de 16h30 à 18h30\, dans la limite des stocks disponibles. L’abus d’alcool est dangereux pour la santé. www.mangerbouger.fr
URL:https://lestalentueuses74.fr/evenement/marche-de-noel/
LOCATION:La Roche sur Foron\, La Roche sur Foron\, 74800\, France
ATTACH;FMTTYPE=image/jpeg:https://lestalentueuses74.fr/wp-content/uploads/2024/11/4b18410c-7f70-4f1f-b26a-5a5d4e99aae2.jpg
ORGANIZER;CN="Les Talentueuses":MAILTO:lestalentueuses74@gmail.com
END:VEVENT
END:VCALENDAR